BEGIN:VCALENDAR
VERSION:2.0
PRODID:-//Quedgeley Town Council//Meeting Calendar//EN
CALSCALE:GREGORIAN
METHOD:PUBLISH
BEGIN:VEVENT
UID:71816-20260420@quedgeley-tc.gov.uk
DTSTAMP:20260421T081102Z
DTSTART;VALUE=DATE:20260420
DTEND;VALUE=DATE:20260421
SUMMARY:Full Council
DESCRIPTION:Full Council Meeting\nView details: https://quedgeley-tc.gov.uk/meetings/full-council-2/
URL:https://quedgeley-tc.gov.uk/meetings/full-council-2/
END:VEVENT
END:VCALENDAR
